{
 "currentVersion": 10.91,
 "serviceDescription": "FLOODZONE/DEM_5m_2014",
 "name": "FLOODZONE/DEM_5m_2014",
 "description": "",
 "extent": {
  "xmin": 2871227.8001098633,
  "ymin": 1.365160500012207E7,
  "xmax": 3111227.8001098633,
  "ymax": 1.389160500012207E7,
  "spatialReference": {
   "wkt": "PROJCS[\"GRS_1980_Lambert_Conformal_Conic\",GEOGCS[\"GCS_GRS_1980\",DATUM[\"D_GRS_1980\",SPHEROID[\"GRS_1980\",6378137.0,298.257222101]],PRIMEM[\"Greenwich\",0.0],UNIT[\"Degree\",0.0174532925199433]],PROJECTION[\"Lambert_Conformal_Conic\"],PARAMETER[\"False_Easting\",1968500.0],PARAMETER[\"False_Northing\",13123333.33333333],PARAMETER[\"Central_Meridian\",-99.0],PARAMETER[\"Standard_Parallel_1\",28.38333333333333],PARAMETER[\"Standard_Parallel_2\",30.28333333333333],PARAMETER[\"Latitude_Of_Origin\",27.83333333333333],UNIT[\"Foot_US\",0.3048006096012192]]"
  }
 },
 "initialExtent": {
  "xmin": 2871227.8001098633,
  "ymin": 1.365160500012207E7,
  "xmax": 3111227.8001098633,
  "ymax": 1.389160500012207E7,
  "spatialReference": {
   "wkt": "PROJCS[\"GRS_1980_Lambert_Conformal_Conic\",GEOGCS[\"GCS_GRS_1980\",DATUM[\"D_GRS_1980\",SPHEROID[\"GRS_1980\",6378137.0,298.257222101]],PRIMEM[\"Greenwich\",0.0],UNIT[\"Degree\",0.0174532925199433]],PROJECTION[\"Lambert_Conformal_Conic\"],PARAMETER[\"False_Easting\",1968500.0],PARAMETER[\"False_Northing\",13123333.33333333],PARAMETER[\"Central_Meridian\",-99.0],PARAMETER[\"Standard_Parallel_1\",28.38333333333333],PARAMETER[\"Standard_Parallel_2\",30.28333333333333],PARAMETER[\"Latitude_Of_Origin\",27.83333333333333],UNIT[\"Foot_US\",0.3048006096012192]]"
  }
 },
 "fullExtent": {
  "xmin": 2871227.8001098633,
  "ymin": 1.365160500012207E7,
  "xmax": 3111227.8001098633,
  "ymax": 1.389160500012207E7,
  "spatialReference": {
   "wkt": "PROJCS[\"GRS_1980_Lambert_Conformal_Conic\",GEOGCS[\"GCS_GRS_1980\",DATUM[\"D_GRS_1980\",SPHEROID[\"GRS_1980\",6378137.0,298.257222101]],PRIMEM[\"Greenwich\",0.0],UNIT[\"Degree\",0.0174532925199433]],PROJECTION[\"Lambert_Conformal_Conic\"],PARAMETER[\"False_Easting\",1968500.0],PARAMETER[\"False_Northing\",13123333.33333333],PARAMETER[\"Central_Meridian\",-99.0],PARAMETER[\"Standard_Parallel_1\",28.38333333333333],PARAMETER[\"Standard_Parallel_2\",30.28333333333333],PARAMETER[\"Latitude_Of_Origin\",27.83333333333333],UNIT[\"Foot_US\",0.3048006096012192]]"
  }
 },
 "hasMultidimensions": false,
 "pixelSizeX": 15,
 "pixelSizeY": 15,
 "datasetFormat": "GRID",
 "uncompressedSize": 1024000000,
 "blockWidth": 256,
 "blockHeight": 16,
 "compressionType": "None",
 "bandNames": [
  "2014"
 ],
 "allowCopy": true,
 "allowAnalysis": true,
 "bandCount": 1,
 "noDataValue": -3.4028234663852886E38,
 "noDataValues": [
  -3.4028234663852886E38
 ],
 "pixelType": "F32",
 "minPixelSize": 0,
 "maxPixelSize": 0,
 "copyrightText": "",
 "serviceDataType": "esriImageServiceDataTypeGeneric",
 "serviceSourceType": "esriImageServiceSourceTypeDataset",
 "minValues": [],
 "maxValues": [],
 "meanValues": [],
 "stdvValues": [],
 "objectIdField": "",
 "fields": [],
 "capabilities": "Image,Metadata,Mensuration",
 "defaultMosaicMethod": "Center",
 "allowedMosaicMethods": "",
 "sortField": "",
 "sortValue": null,
 "sortAscending": true,
 "mosaicOperator": "First",
 "defaultCompressionQuality": 75,
 "defaultResamplingMethod": "Bilinear",
 "maxImageHeight": 4100,
 "maxImageWidth": 15000,
 "allowRasterFunction": true,
 "rasterFunctionInfos": [
  {
   "name": "None",
   "description": "",
   "help": ""
  }
 ],
 "rasterTypeInfos": [
  {
   "name": "Raster Dataset",
   "description": "Supports all ArcGIS Raster Datasets",
   "help": ""
  }
 ],
 "mensurationCapabilities": "Basic",
 "hasHistograms": false,
 "hasColormap": false,
 "hasRasterAttributeTable": false,
 "minScale": 0,
 "maxScale": 0,
 "exportTilesAllowed": false,
 "supportsStatistics": false,
 "supportsAdvancedQueries": false,
 "editFieldsInfo": null,
 "ownershipBasedAccessControlForRasters": null,
 "allowComputeTiePoints": false,
 "useStandardizedQueries": true,
 "advancedQueryCapabilities": {
  "useStandardizedQueries": true,
  "supportsStatistics": false,
  "supportsOrderBy": false,
  "supportsDistinct": false,
  "supportsPagination": false
 },
 "spatialReference": {
  "wkt": "PROJCS[\"GRS_1980_Lambert_Conformal_Conic\",GEOGCS[\"GCS_GRS_1980\",DATUM[\"D_GRS_1980\",SPHEROID[\"GRS_1980\",6378137.0,298.257222101]],PRIMEM[\"Greenwich\",0.0],UNIT[\"Degree\",0.0174532925199433]],PROJECTION[\"Lambert_Conformal_Conic\"],PARAMETER[\"False_Easting\",1968500.0],PARAMETER[\"False_Northing\",13123333.33333333],PARAMETER[\"Central_Meridian\",-99.0],PARAMETER[\"Standard_Parallel_1\",28.38333333333333],PARAMETER[\"Standard_Parallel_2\",30.28333333333333],PARAMETER[\"Latitude_Of_Origin\",27.83333333333333],UNIT[\"Foot_US\",0.3048006096012192]]"
 }
}
