{
 "currentVersion": 10.91,
 "serviceDescription": "FLOODZONE/FBC_LiDAR2019",
 "name": "FLOODZONE/FBC_LiDAR2019",
 "description": "",
 "extent": {
  "xmin": 2819531.0680027665,
  "ymin": 1.3646209996896213E7,
  "xmax": 3127151.8407106665,
  "ymax": 1.3865507456334813E7,
  "spatialReference": {
   "wkid": 102740,
   "latestWkid": 2278
  }
 },
 "initialExtent": {
  "xmin": 2819531.0680027665,
  "ymin": 1.3646209996896213E7,
  "xmax": 3127151.8407106665,
  "ymax": 1.3865507456334813E7,
  "spatialReference": {
   "wkid": 102740,
   "latestWkid": 2278
  }
 },
 "fullExtent": {
  "xmin": 2819531.0680027665,
  "ymin": 1.3646209996896213E7,
  "xmax": 3127151.8407106665,
  "ymax": 1.3865507456334813E7,
  "spatialReference": {
   "wkid": 102740,
   "latestWkid": 2278
  }
 },
 "hasMultidimensions": false,
 "pixelSizeX": 3.2808333000000003,
 "pixelSizeY": 3.2808332999999945,
 "datasetFormat": "FGDBR",
 "uncompressedSize": 25069225784,
 "blockWidth": 128,
 "blockHeight": 128,
 "compressionType": "LZ77",
 "bandNames": [
  "Band_1"
 ],
 "allowCopy": true,
 "allowAnalysis": true,
 "bandCount": 1,
 "pixelType": "F32",
 "minPixelSize": 0,
 "maxPixelSize": 0,
 "copyrightText": "",
 "serviceDataType": "esriImageServiceDataTypeGeneric",
 "serviceSourceType": "esriImageServiceSourceTypeDataset",
 "minValues": [
  -24.39960479736328
 ],
 "maxValues": [
  208.87139892578125
 ],
 "meanValues": [
  80.22322074596654
 ],
 "stdvValues": [
  28.865347063943325
 ],
 "objectIdField": "",
 "fields": [],
 "capabilities": "Mensuration,Image,Metadata",
 "defaultMosaicMethod": "Center",
 "allowedMosaicMethods": "",
 "sortField": "",
 "sortValue": null,
 "sortAscending": true,
 "mosaicOperator": "First",
 "defaultCompressionQuality": 75,
 "defaultResamplingMethod": "Bilinear",
 "maxImageHeight": 70000,
 "maxImageWidth": 100000,
 "allowRasterFunction": true,
 "rasterFunctionInfos": [
  {
   "name": "None",
   "description": "",
   "help": ""
  }
 ],
 "rasterTypeInfos": [
  {
   "name": "Raster Dataset",
   "description": "Supports all ArcGIS Raster Datasets",
   "help": ""
  }
 ],
 "mensurationCapabilities": "Basic",
 "hasHistograms": true,
 "hasColormap": false,
 "hasRasterAttributeTable": false,
 "minScale": 0,
 "maxScale": 0,
 "exportTilesAllowed": false,
 "supportsStatistics": false,
 "supportsAdvancedQueries": false,
 "editFieldsInfo": null,
 "ownershipBasedAccessControlForRasters": null,
 "allowComputeTiePoints": false,
 "useStandardizedQueries": true,
 "advancedQueryCapabilities": {
  "useStandardizedQueries": true,
  "supportsStatistics": false,
  "supportsOrderBy": false,
  "supportsDistinct": false,
  "supportsPagination": false
 },
 "spatialReference": {
  "wkid": 102740,
  "latestWkid": 2278
 }
}
