{
 "currentVersion": 10.91,
 "serviceDescription": "Hillshade_2019",
 "name": "Hillshade_2019",
 "description": "",
 "extent": {
  "xmin": 2819531.0680027665,
  "ymin": 1.3646209996896213E7,
  "xmax": 3127151.8407106665,
  "ymax": 1.3865507456334813E7,
  "spatialReference": {
   "wkt": "PROJCS[\"NAD_1983_Lambert_Conformal_Conic\",GEOGCS[\"GCS_North_American_1983\",DATUM[\"D_North_American_1983\",SPHEROID[\"GRS_1980\",6378137.0,298.257222101]],PRIMEM[\"Greenwich\",0.0],UNIT[\"Degree\",0.0174532925199433]],PROJECTION[\"Lambert_Conformal_Conic\"],PARAMETER[\"False_Easting\",1968500.0],PARAMETER[\"False_Northing\",13123333.333],PARAMETER[\"Central_Meridian\",-99.0],PARAMETER[\"Standard_Parallel_1\",28.38333333333333],PARAMETER[\"Standard_Parallel_2\",30.28333333333333],PARAMETER[\"Latitude_Of_Origin\",27.83333333333333],UNIT[\"Foot_US\",0.3048006096012192]]"
  }
 },
 "initialExtent": {
  "xmin": 2819531.0680027665,
  "ymin": 1.3646209996896213E7,
  "xmax": 3127151.8407106665,
  "ymax": 1.3865507456334813E7,
  "spatialReference": {
   "wkt": "PROJCS[\"NAD_1983_Lambert_Conformal_Conic\",GEOGCS[\"GCS_North_American_1983\",DATUM[\"D_North_American_1983\",SPHEROID[\"GRS_1980\",6378137.0,298.257222101]],PRIMEM[\"Greenwich\",0.0],UNIT[\"Degree\",0.0174532925199433]],PROJECTION[\"Lambert_Conformal_Conic\"],PARAMETER[\"False_Easting\",1968500.0],PARAMETER[\"False_Northing\",13123333.333],PARAMETER[\"Central_Meridian\",-99.0],PARAMETER[\"Standard_Parallel_1\",28.38333333333333],PARAMETER[\"Standard_Parallel_2\",30.28333333333333],PARAMETER[\"Latitude_Of_Origin\",27.83333333333333],UNIT[\"Foot_US\",0.3048006096012192]]"
  }
 },
 "fullExtent": {
  "xmin": 2819531.0680027665,
  "ymin": 1.3646209996896213E7,
  "xmax": 3127151.8407106665,
  "ymax": 1.3865507456334813E7,
  "spatialReference": {
   "wkt": "PROJCS[\"NAD_1983_Lambert_Conformal_Conic\",GEOGCS[\"GCS_North_American_1983\",DATUM[\"D_North_American_1983\",SPHEROID[\"GRS_1980\",6378137.0,298.257222101]],PRIMEM[\"Greenwich\",0.0],UNIT[\"Degree\",0.0174532925199433]],PROJECTION[\"Lambert_Conformal_Conic\"],PARAMETER[\"False_Easting\",1968500.0],PARAMETER[\"False_Northing\",13123333.333],PARAMETER[\"Central_Meridian\",-99.0],PARAMETER[\"Standard_Parallel_1\",28.38333333333333],PARAMETER[\"Standard_Parallel_2\",30.28333333333333],PARAMETER[\"Latitude_Of_Origin\",27.83333333333333],UNIT[\"Foot_US\",0.3048006096012192]]"
  }
 },
 "hasMultidimensions": false,
 "pixelSizeX": 3.2808333000000003,
 "pixelSizeY": 3.2808332999999945,
 "datasetFormat": "GRID",
 "uncompressedSize": 6267306446,
 "blockWidth": 256,
 "blockHeight": 16,
 "compressionType": "RLE",
 "bandNames": [
  "Hillshade"
 ],
 "allowCopy": true,
 "allowAnalysis": true,
 "bandCount": 1,
 "noDataValue": 255,
 "noDataValues": [
  255
 ],
 "pixelType": "U8",
 "minPixelSize": 0,
 "maxPixelSize": 0,
 "copyrightText": "",
 "serviceDataType": "esriImageServiceDataTypeGeneric",
 "serviceSourceType": "esriImageServiceSourceTypeDataset",
 "minValues": [
  0
 ],
 "maxValues": [
  254
 ],
 "meanValues": [
  179.34948703943078
 ],
 "stdvValues": [
  8.448497865161437
 ],
 "objectIdField": "",
 "fields": [],
 "capabilities": "Image,Metadata,Mensuration",
 "defaultMosaicMethod": "Center",
 "allowedMosaicMethods": "",
 "sortField": "",
 "sortValue": null,
 "sortAscending": true,
 "mosaicOperator": "First",
 "defaultCompressionQuality": 75,
 "defaultResamplingMethod": "Bilinear",
 "maxImageHeight": 4100,
 "maxImageWidth": 15000,
 "allowRasterFunction": true,
 "rasterFunctionInfos": [
  {
   "name": "None",
   "description": "",
   "help": ""
  }
 ],
 "rasterTypeInfos": [
  {
   "name": "Raster Dataset",
   "description": "Supports all ArcGIS Raster Datasets",
   "help": ""
  }
 ],
 "mensurationCapabilities": "Basic",
 "hasHistograms": true,
 "hasColormap": false,
 "hasRasterAttributeTable": true,
 "minScale": 0,
 "maxScale": 0,
 "exportTilesAllowed": false,
 "supportsStatistics": false,
 "supportsAdvancedQueries": false,
 "editFieldsInfo": null,
 "ownershipBasedAccessControlForRasters": null,
 "allowComputeTiePoints": false,
 "useStandardizedQueries": true,
 "advancedQueryCapabilities": {
  "useStandardizedQueries": true,
  "supportsStatistics": false,
  "supportsOrderBy": false,
  "supportsDistinct": false,
  "supportsPagination": false
 },
 "spatialReference": {
  "wkt": "PROJCS[\"NAD_1983_Lambert_Conformal_Conic\",GEOGCS[\"GCS_North_American_1983\",DATUM[\"D_North_American_1983\",SPHEROID[\"GRS_1980\",6378137.0,298.257222101]],PRIMEM[\"Greenwich\",0.0],UNIT[\"Degree\",0.0174532925199433]],PROJECTION[\"Lambert_Conformal_Conic\"],PARAMETER[\"False_Easting\",1968500.0],PARAMETER[\"False_Northing\",13123333.333],PARAMETER[\"Central_Meridian\",-99.0],PARAMETER[\"Standard_Parallel_1\",28.38333333333333],PARAMETER[\"Standard_Parallel_2\",30.28333333333333],PARAMETER[\"Latitude_Of_Origin\",27.83333333333333],UNIT[\"Foot_US\",0.3048006096012192]]"
 }
}
