{
 "currentVersion": 10.91,
 "serviceDescription": "Hosted/PleasantGully_500YR_Depth",
 "name": "Hosted/PleasantGully_500YR_Depth",
 "description": "",
 "extent": {
  "xmin": 2979071.1211164687,
  "ymin": 1.3759941264332687E7,
  "xmax": 2998301.1211164687,
  "ymax": 1.3774593264332687E7,
  "spatialReference": {
   "wkid": 102740,
   "latestWkid": 2278
  }
 },
 "initialExtent": {
  "xmin": 2979071.1211164687,
  "ymin": 1.3759941264332687E7,
  "xmax": 2998301.1211164687,
  "ymax": 1.3774593264332687E7,
  "spatialReference": {
   "wkid": 102740,
   "latestWkid": 2278
  }
 },
 "fullExtent": {
  "xmin": 2979071.1211164687,
  "ymin": 1.3759941264332687E7,
  "xmax": 2998301.1211164687,
  "ymax": 1.3774593264332687E7,
  "spatialReference": {
   "wkid": 102740,
   "latestWkid": 2278
  }
 },
 "hasMultidimensions": false,
 "pixelSizeX": 3,
 "pixelSizeY": 3,
 "datasetFormat": "TIFF",
 "uncompressedSize": 125225760,
 "blockWidth": 256,
 "blockHeight": 256,
 "compressionType": "DEFLATE",
 "bandNames": [
  "Band_1"
 ],
 "allowCopy": true,
 "allowAnalysis": true,
 "bandCount": 1,
 "noDataValue": -9999,
 "noDataValues": [
  -9999
 ],
 "pixelType": "F32",
 "minPixelSize": 0,
 "maxPixelSize": 0,
 "copyrightText": "",
 "serviceDataType": "esriImageServiceDataTypeGeneric",
 "serviceSourceType": "esriImageServiceSourceTypeDataset",
 "minValues": [
  9.9945068359375E-4
 ],
 "maxValues": [
  10.3594551086426
 ],
 "meanValues": [
  1.4408850524185
 ],
 "stdvValues": [
  2.10760061327672
 ],
 "objectIdField": "",
 "fields": [],
 "capabilities": "Image, Metadata, Mensuration",
 "defaultMosaicMethod": "Center",
 "allowedMosaicMethods": "",
 "sortField": "",
 "sortValue": null,
 "sortAscending": true,
 "mosaicOperator": "First",
 "defaultCompressionQuality": 75,
 "defaultResamplingMethod": "Bilinear",
 "maxImageHeight": 4100,
 "maxImageWidth": 15000,
 "allowRasterFunction": true,
 "rasterFunctionInfos": [
  {
   "name": "None",
   "description": "",
   "help": ""
  }
 ],
 "rasterTypeInfos": [
  {
   "name": "Raster Dataset",
   "description": "Supports all ArcGIS Raster Datasets",
   "help": ""
  }
 ],
 "mensurationCapabilities": "Basic",
 "hasHistograms": false,
 "hasColormap": false,
 "hasRasterAttributeTable": false,
 "minScale": 0,
 "maxScale": 0,
 "exportTilesAllowed": false,
 "supportsStatistics": false,
 "supportsAdvancedQueries": false,
 "editFieldsInfo": null,
 "ownershipBasedAccessControlForRasters": null,
 "allowComputeTiePoints": false,
 "useStandardizedQueries": true,
 "advancedQueryCapabilities": {
  "useStandardizedQueries": true,
  "supportsStatistics": false,
  "supportsOrderBy": false,
  "supportsDistinct": false,
  "supportsPagination": false
 },
 "spatialReference": {
  "wkid": 102740,
  "latestWkid": 2278
 }
}
