{
 "currentVersion": 10.91,
 "serviceDescription": "Hosted/Ponding_Map_Ponding_Map_5m_dem_V2",
 "name": "Hosted/Ponding_Map_Ponding_Map_5m_dem_V2",
 "description": "",
 "extent": {
  "xmin": 2871855.0001220703,
  "ymin": 1.365159750012207E7,
  "xmax": 3110775.0001220703,
  "ymax": 1.385123250012207E7,
  "spatialReference": {
   "wkt": "PROJCS[\"NAD_1983_Texas_South_Central_ftUS\",GEOGCS[\"GCS_North_American_1983\",DATUM[\"D_North_American_1983\",SPHEROID[\"GRS_1980\",6378137.0,298.257222101]],PRIMEM[\"Greenwich\",0.0],UNIT[\"Degree\",0.0174532925199433]],PROJECTION[\"Lambert_Conformal_Conic\"],PARAMETER[\"false_easting\",1968500.0],PARAMETER[\"false_northing\",13123333.3333333],PARAMETER[\"central_meridian\",-99.0],PARAMETER[\"standard_parallel_1\",28.3833333333333],PARAMETER[\"standard_parallel_2\",30.2833333333333],PARAMETER[\"latitude_of_origin\",27.8333333333333],UNIT[\"Foot_US\",0.3048006096012192]]"
  }
 },
 "initialExtent": {
  "xmin": 2871855.0001220703,
  "ymin": 1.365159750012207E7,
  "xmax": 3110775.0001220703,
  "ymax": 1.385123250012207E7,
  "spatialReference": {
   "wkt": "PROJCS[\"NAD_1983_Texas_South_Central_ftUS\",GEOGCS[\"GCS_North_American_1983\",DATUM[\"D_North_American_1983\",SPHEROID[\"GRS_1980\",6378137.0,298.257222101]],PRIMEM[\"Greenwich\",0.0],UNIT[\"Degree\",0.0174532925199433]],PROJECTION[\"Lambert_Conformal_Conic\"],PARAMETER[\"false_easting\",1968500.0],PARAMETER[\"false_northing\",13123333.3333333],PARAMETER[\"central_meridian\",-99.0],PARAMETER[\"standard_parallel_1\",28.3833333333333],PARAMETER[\"standard_parallel_2\",30.2833333333333],PARAMETER[\"latitude_of_origin\",27.8333333333333],UNIT[\"Foot_US\",0.3048006096012192]]"
  }
 },
 "fullExtent": {
  "xmin": 2871855.0001220703,
  "ymin": 1.365159750012207E7,
  "xmax": 3110775.0001220703,
  "ymax": 1.385123250012207E7,
  "spatialReference": {
   "wkt": "PROJCS[\"NAD_1983_Texas_South_Central_ftUS\",GEOGCS[\"GCS_North_American_1983\",DATUM[\"D_North_American_1983\",SPHEROID[\"GRS_1980\",6378137.0,298.257222101]],PRIMEM[\"Greenwich\",0.0],UNIT[\"Degree\",0.0174532925199433]],PROJECTION[\"Lambert_Conformal_Conic\"],PARAMETER[\"false_easting\",1968500.0],PARAMETER[\"false_northing\",13123333.3333333],PARAMETER[\"central_meridian\",-99.0],PARAMETER[\"standard_parallel_1\",28.3833333333333],PARAMETER[\"standard_parallel_2\",30.2833333333333],PARAMETER[\"latitude_of_origin\",27.8333333333333],UNIT[\"Foot_US\",0.3048006096012192]]"
  }
 },
 "hasMultidimensions": false,
 "pixelSizeX": 15,
 "pixelSizeY": 15,
 "datasetFormat": "TIFF",
 "uncompressedSize": 847943008,
 "blockWidth": 128,
 "blockHeight": 128,
 "compressionType": "None",
 "bandNames": [
  "Band_1"
 ],
 "allowCopy": true,
 "allowAnalysis": true,
 "bandCount": 1,
 "noDataValue": -9999,
 "noDataValues": [
  -9999
 ],
 "pixelType": "F32",
 "minPixelSize": 0,
 "maxPixelSize": 0,
 "copyrightText": "",
 "serviceDataType": "esriImageServiceDataTypeGeneric",
 "serviceSourceType": "esriImageServiceSourceTypeDataset",
 "minValues": [
  2
 ],
 "maxValues": [
  59.498077392578
 ],
 "meanValues": [
  5.8427032555023
 ],
 "stdvValues": [
  6.2642161694845
 ],
 "objectIdField": "",
 "fields": [],
 "capabilities": "Image, Metadata, Mensuration",
 "defaultMosaicMethod": "Center",
 "allowedMosaicMethods": "",
 "sortField": "",
 "sortValue": null,
 "sortAscending": true,
 "mosaicOperator": "First",
 "defaultCompressionQuality": 75,
 "defaultResamplingMethod": "Bilinear",
 "maxImageHeight": 4100,
 "maxImageWidth": 15000,
 "allowRasterFunction": true,
 "rasterFunctionInfos": [
  {
   "name": "None",
   "description": "",
   "help": ""
  }
 ],
 "rasterTypeInfos": [
  {
   "name": "Raster Dataset",
   "description": "Supports all ArcGIS Raster Datasets",
   "help": ""
  }
 ],
 "mensurationCapabilities": "Basic",
 "hasHistograms": true,
 "hasColormap": false,
 "hasRasterAttributeTable": false,
 "minScale": 0,
 "maxScale": 0,
 "exportTilesAllowed": false,
 "supportsStatistics": false,
 "supportsAdvancedQueries": false,
 "editFieldsInfo": null,
 "ownershipBasedAccessControlForRasters": null,
 "allowComputeTiePoints": false,
 "useStandardizedQueries": true,
 "advancedQueryCapabilities": {
  "useStandardizedQueries": true,
  "supportsStatistics": false,
  "supportsOrderBy": false,
  "supportsDistinct": false,
  "supportsPagination": false
 },
 "spatialReference": {
  "wkt": "PROJCS[\"NAD_1983_Texas_South_Central_ftUS\",GEOGCS[\"GCS_North_American_1983\",DATUM[\"D_North_American_1983\",SPHEROID[\"GRS_1980\",6378137.0,298.257222101]],PRIMEM[\"Greenwich\",0.0],UNIT[\"Degree\",0.0174532925199433]],PROJECTION[\"Lambert_Conformal_Conic\"],PARAMETER[\"false_easting\",1968500.0],PARAMETER[\"false_northing\",13123333.3333333],PARAMETER[\"central_meridian\",-99.0],PARAMETER[\"standard_parallel_1\",28.3833333333333],PARAMETER[\"standard_parallel_2\",30.2833333333333],PARAMETER[\"latitude_of_origin\",27.8333333333333],UNIT[\"Foot_US\",0.3048006096012192]]"
 }
}
