{
 "currentVersion": 10.91,
 "serviceDescription": "Imagery/2019_Aerials_1meter",
 "name": "Imagery/2019_Aerials_1meter",
 "description": "",
 "extent": {
  "xmin": 2896844.600000005,
  "ymin": 1.3654421510199118E7,
  "xmax": 3108986.56395112,
  "ymax": 1.3850388965833334E7,
  "spatialReference": {
   "wkid": 102740,
   "latestWkid": 2278
  }
 },
 "initialExtent": {
  "xmin": 2896844.600000005,
  "ymin": 1.3654421510199118E7,
  "xmax": 3108986.56395112,
  "ymax": 1.3850388965833334E7,
  "spatialReference": {
   "wkid": 102740,
   "latestWkid": 2278
  }
 },
 "fullExtent": {
  "xmin": 2896844.600000005,
  "ymin": 1.3654421510199118E7,
  "xmax": 3108986.56395112,
  "ymax": 1.3850388965833334E7,
  "spatialReference": {
   "wkid": 102740,
   "latestWkid": 2278
  }
 },
 "hasMultidimensions": false,
 "pixelSizeX": 3.280833329999761,
 "pixelSizeY": 3.280833329999763,
 "datasetFormat": "FGDBR",
 "uncompressedSize": 11586798573,
 "blockWidth": 128,
 "blockHeight": 128,
 "compressionType": "LZ77",
 "bandNames": [
  "Band_1",
  "Band_2",
  "Band_3"
 ],
 "allowCopy": true,
 "allowAnalysis": true,
 "bandCount": 3,
 "pixelType": "U8",
 "minPixelSize": 0,
 "maxPixelSize": 0,
 "copyrightText": "",
 "serviceDataType": "esriImageServiceDataTypeRGB",
 "serviceSourceType": "esriImageServiceSourceTypeDataset",
 "minValues": [
  0,
  0,
  0
 ],
 "maxValues": [
  255,
  255,
  255
 ],
 "meanValues": [
  177.62311556912,
  171.88670194569,
  143.10409800811
 ],
 "stdvValues": [
  61.426124079733,
  64.02973051763,
  84.265256715361
 ],
 "objectIdField": "",
 "fields": [],
 "capabilities": "Image,Metadata,Mensuration",
 "defaultMosaicMethod": "Center",
 "allowedMosaicMethods": "",
 "sortField": "",
 "sortValue": null,
 "sortAscending": true,
 "mosaicOperator": "First",
 "defaultCompressionQuality": 75,
 "defaultResamplingMethod": "Bilinear",
 "maxImageHeight": 4100,
 "maxImageWidth": 15000,
 "allowRasterFunction": true,
 "rasterFunctionInfos": [
  {
   "name": "None",
   "description": "",
   "help": ""
  }
 ],
 "rasterTypeInfos": [
  {
   "name": "Raster Dataset",
   "description": "Supports all ArcGIS Raster Datasets",
   "help": ""
  }
 ],
 "mensurationCapabilities": "Basic",
 "hasHistograms": true,
 "hasColormap": false,
 "hasRasterAttributeTable": false,
 "minScale": 0,
 "maxScale": 0,
 "exportTilesAllowed": false,
 "supportsStatistics": false,
 "supportsAdvancedQueries": false,
 "editFieldsInfo": null,
 "ownershipBasedAccessControlForRasters": null,
 "allowComputeTiePoints": false,
 "useStandardizedQueries": true,
 "advancedQueryCapabilities": {
  "useStandardizedQueries": true,
  "supportsStatistics": false,
  "supportsOrderBy": false,
  "supportsDistinct": false,
  "supportsPagination": false
 },
 "spatialReference": {
  "wkid": 102740,
  "latestWkid": 2278
 }
}
