{
 "currentVersion": 10.91,
 "serviceDescription": "Imagery/Hillshade_2024",
 "name": "Imagery/Hillshade_2024",
 "description": "",
 "extent": {
  "xmin": 2890368.282108724,
  "ymin": 1.3651622970874727E7,
  "xmax": 3108847.175858724,
  "ymax": 1.3852537923374727E7,
  "spatialReference": {
   "wkid": 103161,
   "latestWkid": 6588
  }
 },
 "initialExtent": {
  "xmin": 2890368.282108724,
  "ymin": 1.3651622970874727E7,
  "xmax": 3108847.175858724,
  "ymax": 1.3852537923374727E7,
  "spatialReference": {
   "wkid": 103161,
   "latestWkid": 6588
  }
 },
 "fullExtent": {
  "xmin": 2890368.282108724,
  "ymin": 1.3651622970874727E7,
  "xmax": 3108847.175858724,
  "ymax": 1.3852537923374727E7,
  "spatialReference": {
   "wkid": 103161,
   "latestWkid": 6588
  }
 },
 "hasMultidimensions": false,
 "pixelSizeX": 1.6404166666666653,
 "pixelSizeY": 1.6404166666666715,
 "datasetFormat": "FGDBR",
 "uncompressedSize": 16312232430,
 "blockWidth": 128,
 "blockHeight": 128,
 "compressionType": "LZ77",
 "bandNames": [
  "Band_1"
 ],
 "allowCopy": true,
 "allowAnalysis": true,
 "bandCount": 1,
 "pixelType": "U8",
 "minPixelSize": 0,
 "maxPixelSize": 0,
 "copyrightText": "",
 "serviceDataType": "esriImageServiceDataTypeGeneric",
 "serviceSourceType": "esriImageServiceSourceTypeDataset",
 "minValues": [
  0
 ],
 "maxValues": [
  254
 ],
 "meanValues": [
  179.12274848268459
 ],
 "stdvValues": [
  10.600267989439676
 ],
 "objectIdField": "",
 "fields": [],
 "capabilities": "Image,Metadata,Mensuration",
 "defaultMosaicMethod": "Center",
 "allowedMosaicMethods": "",
 "sortField": "",
 "sortValue": null,
 "sortAscending": true,
 "mosaicOperator": "First",
 "defaultCompressionQuality": 75,
 "defaultResamplingMethod": "Bilinear",
 "maxImageHeight": 4100,
 "maxImageWidth": 15000,
 "allowRasterFunction": true,
 "rasterFunctionInfos": [
  {
   "name": "None",
   "description": "",
   "help": ""
  }
 ],
 "rasterTypeInfos": [
  {
   "name": "Raster Dataset",
   "description": "Supports all ArcGIS Raster Datasets",
   "help": ""
  }
 ],
 "mensurationCapabilities": "Basic",
 "hasHistograms": true,
 "hasColormap": false,
 "hasRasterAttributeTable": true,
 "minScale": 0,
 "maxScale": 0,
 "exportTilesAllowed": false,
 "supportsStatistics": false,
 "supportsAdvancedQueries": false,
 "editFieldsInfo": null,
 "ownershipBasedAccessControlForRasters": null,
 "allowComputeTiePoints": false,
 "useStandardizedQueries": true,
 "advancedQueryCapabilities": {
  "useStandardizedQueries": true,
  "supportsStatistics": false,
  "supportsOrderBy": false,
  "supportsDistinct": false,
  "supportsPagination": false
 },
 "spatialReference": {
  "wkid": 103161,
  "latestWkid": 6588
 }
}
