View In:
ArcGIS JavaScript
ArcGIS Online Map Viewer
ArcGIS Earth
ArcMap
View Footprint In:
ArcGIS Online Map Viewer
Service Description: BZ_River_Mapping/Richmond_Stage_WSEL_61_86
Name: BZ_River_Mapping/Richmond_Stage_WSEL_61_86
Description:
Single Fused Map Cache: false
Extent:
XMin: 2811449.0151185254
YMin: 1.3628030825641759E7
XMax: 3106814.0151185254
YMax: 1.3990070825641759E7
Spatial Reference: 102740
(2278)
LatestVCSWkid(0)
Initial Extent:
XMin: 2811449.0151185254
YMin: 1.3628030825641759E7
XMax: 3106814.0151185254
YMax: 1.3990070825641759E7
Spatial Reference: 102740
(2278)
LatestVCSWkid(0)
Full Extent:
XMin: 2811449.0151185254
YMin: 1.3628030825641759E7
XMax: 3106814.0151185254
YMax: 1.3990070825641759E7
Spatial Reference: 102740
(2278)
LatestVCSWkid(0)
Pixel Size X: 21.0
Pixel Size Y: 21.0
Band Count: 1
Pixel Type: F32
RasterFunction Infos: {"rasterFunctionInfos": [{
"name": "None",
"description": "",
"help": ""
}]}
Mensuration Capabilities: Basic
Has Histograms: true
Has Colormap: false
Has Multi Dimensions : false
Rendering Rule:
Min Scale: 0
Max Scale: 0
Copyright Text:
Service Data Type: esriImageServiceDataTypeGeneric
Min Values: 32.10290145874
Max Values: 173.68304443359
Mean Values: 89.740760019568
Standard Deviation Values: 37.973642485386
Object ID Field:
Fields:
None
Default Mosaic Method: Center
Allowed Mosaic Methods:
SortField:
SortValue: null
Mosaic Operator: First
Default Compression Quality: 75
Default Resampling Method: Bilinear
Max Record Count: null
Max Image Height: 4100
Max Image Width: 15000
Max Download Image Count: null
Max Mosaic Image Count: null
Allow Raster Function: true
Allow Copy: true
Allow Analysis: true
Allow Compute TiePoints: false
Supports Statistics: false
Supports Advanced Queries: false
Use StandardizedQueries: true
Raster Type Infos:
Name: Raster Dataset
Description: Supports all ArcGIS Raster Datasets
Help:
Has Raster Attribute Table: false
Edit Fields Info: null
Ownership Based AccessControl For Rasters: null
Child Resources:
Info
Histograms
Statistics
Key Properties
Legend
Raster Function Infos
Supported Operations:
Export Image
Identify
Measure
Compute Histograms
Compute Statistics Histograms
Get Samples
Compute Class Statistics
Query Boundary
Compute Pixel Location
Compute Angles
Validate
Project