View In:
ArcGIS JavaScript
ArcGIS Online Map Viewer
ArcGIS Earth
ArcMap
View Footprint In:
ArcGIS Online Map Viewer
Service Description: Hosted/BraysBayou_005YR_Existing_WSE
Name: Hosted/BraysBayou_005YR_Existing_WSE
Description:
Single Fused Map Cache: false
Extent:
XMin: 3018306.0
YMin: 1.3810128E7
XMax: 3026721.0
YMax: 1.382082E7
Spatial Reference: 102740
(2278)
LatestVCSWkid(0)
Initial Extent:
XMin: 3018306.0
YMin: 1.3810128E7
XMax: 3026721.0
YMax: 1.382082E7
Spatial Reference: 102740
(2278)
LatestVCSWkid(0)
Full Extent:
XMin: 3018306.0
YMin: 1.3810128E7
XMax: 3026721.0
YMax: 1.382082E7
Spatial Reference: 102740
(2278)
LatestVCSWkid(0)
Pixel Size X: 3.0
Pixel Size Y: 3.0
Band Count: 1
Pixel Type: F32
RasterFunction Infos: {"rasterFunctionInfos": [{
"name": "None",
"description": "",
"help": ""
}]}
Mensuration Capabilities: Basic
Has Histograms: false
Has Colormap: false
Has Multi Dimensions : false
Rendering Rule:
Min Scale: 0
Max Scale: 0
Copyright Text:
Service Data Type: esriImageServiceDataTypeGeneric
Min Values: 86.5353317260742
Max Values: 88.6114883422852
Mean Values: 87.2809264562348
Standard Deviation Values: 0.483488036206914
Object ID Field:
Fields:
None
Default Mosaic Method: Center
Allowed Mosaic Methods:
SortField:
SortValue: null
Mosaic Operator: First
Default Compression Quality: 75
Default Resampling Method: Bilinear
Max Record Count: null
Max Image Height: 4100
Max Image Width: 15000
Max Download Image Count: null
Max Mosaic Image Count: null
Allow Raster Function: true
Allow Copy: true
Allow Analysis: true
Allow Compute TiePoints: false
Supports Statistics: false
Supports Advanced Queries: false
Use StandardizedQueries: true
Raster Type Infos:
Name: Raster Dataset
Description: Supports all ArcGIS Raster Datasets
Help:
Has Raster Attribute Table: false
Edit Fields Info: null
Ownership Based AccessControl For Rasters: null
Child Resources:
Info
Statistics
Key Properties
Legend
Raster Function Infos
Supported Operations:
Export Image
Identify
Measure
Compute Histograms
Compute Statistics Histograms
Get Samples
Compute Class Statistics
Query Boundary
Compute Pixel Location
Compute Angles
Validate
Project