View In:
ArcGIS JavaScript
ArcGIS Online Map Viewer
ArcGIS Earth
ArcMap
View Footprint In:
ArcGIS Online Map Viewer
Service Description: Hosted/Jones_Creek_100yr_WSE
Name: Hosted/Jones_Creek_100yr_WSE
Description:
Single Fused Map Cache: false
Extent:
XMin: 2945100.0
YMin: 1.3777617E7
XMax: 3011160.0
YMax: 1.383435E7
Spatial Reference: 102740
(2278)
LatestVCSWkid(0)
Initial Extent:
XMin: 2945100.0
YMin: 1.3777617E7
XMax: 3011160.0
YMax: 1.383435E7
Spatial Reference: 102740
(2278)
LatestVCSWkid(0)
Full Extent:
XMin: 2945100.0
YMin: 1.3777617E7
XMax: 3011160.0
YMax: 1.383435E7
Spatial Reference: 102740
(2278)
LatestVCSWkid(0)
Pixel Size X: 3.0
Pixel Size Y: 3.0
Band Count: 1
Pixel Type: F32
RasterFunction Infos: {"rasterFunctionInfos": [{
"name": "None",
"description": "",
"help": ""
}]}
Mensuration Capabilities: Basic
Has Histograms: false
Has Colormap: false
Has Multi Dimensions : false
Rendering Rule:
Min Scale: 0
Max Scale: 0
Copyright Text:
Service Data Type: esriImageServiceDataTypeGeneric
Min Values: 34.5141334533691
Max Values: 139.497421264648
Mean Values: 97.0135685544788
Standard Deviation Values: 7.9466796671424
Object ID Field:
Fields:
None
Default Mosaic Method: Center
Allowed Mosaic Methods:
SortField:
SortValue: null
Mosaic Operator: First
Default Compression Quality: 75
Default Resampling Method: Bilinear
Max Record Count: null
Max Image Height: 4100
Max Image Width: 15000
Max Download Image Count: null
Max Mosaic Image Count: null
Allow Raster Function: true
Allow Copy: true
Allow Analysis: true
Allow Compute TiePoints: false
Supports Statistics: false
Supports Advanced Queries: false
Use StandardizedQueries: true
Raster Type Infos:
Name: Raster Dataset
Description: Supports all ArcGIS Raster Datasets
Help:
Has Raster Attribute Table: false
Edit Fields Info: null
Ownership Based AccessControl For Rasters: null
Child Resources:
Info
Statistics
Key Properties
Legend
Raster Function Infos
Supported Operations:
Export Image
Identify
Measure
Compute Histograms
Compute Statistics Histograms
Get Samples
Compute Class Statistics
Query Boundary
Compute Pixel Location
Compute Angles
Validate
Project