View In:
ArcGIS JavaScript
ArcGIS Online Map Viewer
ArcGIS Earth
ArcMap
View Footprint In:
ArcGIS Online Map Viewer
Service Description: Hosted/Willow500YR_Depth
Name: Hosted/Willow500YR_Depth
Description:
Single Fused Map Cache: false
Extent:
XMin: 2933472.0
YMin: 1.381032E7
XMax: 3034389.0
YMax: 1.3890879E7
Spatial Reference: 103161
(6588)
LatestVCSWkid(0)
Initial Extent:
XMin: 2933472.0
YMin: 1.381032E7
XMax: 3034389.0
YMax: 1.3890879E7
Spatial Reference: 103161
(6588)
LatestVCSWkid(0)
Full Extent:
XMin: 2933472.0
YMin: 1.381032E7
XMax: 3034389.0
YMax: 1.3890879E7
Spatial Reference: 103161
(6588)
LatestVCSWkid(0)
Pixel Size X: 9.0
Pixel Size Y: 9.0
Band Count: 1
Pixel Type: F32
RasterFunction Infos: {"rasterFunctionInfos": [{
"name": "None",
"description": "",
"help": ""
}]}
Mensuration Capabilities: Basic
Has Histograms: false
Has Colormap: false
Has Multi Dimensions : false
Rendering Rule:
Min Scale: 0
Max Scale: 0
Copyright Text:
Service Data Type: esriImageServiceDataTypeGeneric
Min Values: 9.9945068359375E-4
Max Values: 31.4522705078125
Mean Values: 3.62471491960877
Standard Deviation Values: 4.67061565630723
Object ID Field:
Fields:
None
Default Mosaic Method: Center
Allowed Mosaic Methods:
SortField:
SortValue: null
Mosaic Operator: First
Default Compression Quality: 75
Default Resampling Method: Bilinear
Max Record Count: null
Max Image Height: 4100
Max Image Width: 15000
Max Download Image Count: null
Max Mosaic Image Count: null
Allow Raster Function: true
Allow Copy: true
Allow Analysis: true
Allow Compute TiePoints: false
Supports Statistics: false
Supports Advanced Queries: false
Use StandardizedQueries: true
Raster Type Infos:
Name: Raster Dataset
Description: Supports all ArcGIS Raster Datasets
Help:
Has Raster Attribute Table: false
Edit Fields Info: null
Ownership Based AccessControl For Rasters: null
Child Resources:
Info
Statistics
Key Properties
Legend
Raster Function Infos
Supported Operations:
Export Image
Identify
Measure
Compute Histograms
Compute Statistics Histograms
Get Samples
Compute Class Statistics
Query Boundary
Compute Pixel Location
Compute Angles
Validate
Project