View In:
ArcGIS JavaScript
ArcGIS Online Map Viewer
ArcGIS Earth
ArcMap
View Footprint In:
ArcGIS Online Map Viewer
Service Description: FLOODZONE/DEM_5m_2014
Name: FLOODZONE/DEM_5m_2014
Description:
Single Fused Map Cache: false
Extent:
XMin: 2871227.8001098633
YMin: 1.365160500012207E7
XMax: 3111227.8001098633
YMax: 1.389160500012207E7
Spatial Reference: 0
(0)
LatestVCSWkid(0)
Initial Extent:
XMin: 2871227.8001098633
YMin: 1.365160500012207E7
XMax: 3111227.8001098633
YMax: 1.389160500012207E7
Spatial Reference: 0
(0)
LatestVCSWkid(0)
Full Extent:
XMin: 2871227.8001098633
YMin: 1.365160500012207E7
XMax: 3111227.8001098633
YMax: 1.389160500012207E7
Spatial Reference: 0
(0)
LatestVCSWkid(0)
Pixel Size X: 15.0
Pixel Size Y: 15.0
Band Count: 1
Pixel Type: F32
RasterFunction Infos: {"rasterFunctionInfos": [{
"name": "None",
"description": "",
"help": ""
}]}
Mensuration Capabilities: Basic
Has Histograms: false
Has Colormap: false
Has Multi Dimensions : false
Rendering Rule:
Min Scale: 0
Max Scale: 0
Copyright Text:
Service Data Type: esriImageServiceDataTypeGeneric
Min Values: N/A
Max Values: N/A
Mean Values: N/A
Standard Deviation Values: N/A
Object ID Field:
Fields:
None
Default Mosaic Method: Center
Allowed Mosaic Methods:
SortField:
SortValue: null
Mosaic Operator: First
Default Compression Quality: 75
Default Resampling Method: Bilinear
Max Record Count: null
Max Image Height: 4100
Max Image Width: 15000
Max Download Image Count: null
Max Mosaic Image Count: null
Allow Raster Function: true
Allow Copy: true
Allow Analysis: true
Allow Compute TiePoints: false
Supports Statistics: false
Supports Advanced Queries: false
Use StandardizedQueries: true
Raster Type Infos:
Name: Raster Dataset
Description: Supports all ArcGIS Raster Datasets
Help:
Has Raster Attribute Table: false
Edit Fields Info: null
Ownership Based AccessControl For Rasters: null
Child Resources:
Info
Statistics
Key Properties
Legend
Raster Function Infos
Supported Operations:
Export Image
Identify
Measure
Compute Histograms
Compute Statistics Histograms
Get Samples
Compute Class Statistics
Query Boundary
Compute Pixel Location
Compute Angles
Validate
Project