View In:
ArcGIS JavaScript
ArcGIS Online Map Viewer
ArcGIS Earth
ArcMap
View Footprint In:
ArcGIS Online Map Viewer
Service Description: FLOODZONE/FBC_LiDAR2019
Name: FLOODZONE/FBC_LiDAR2019
Description:
Single Fused Map Cache: false
Extent:
XMin: 2819531.0680027665
YMin: 1.3646209996896213E7
XMax: 3127151.8407106665
YMax: 1.3865507456334813E7
Spatial Reference: 102740
(2278)
LatestVCSWkid(0)
Initial Extent:
XMin: 2819531.0680027665
YMin: 1.3646209996896213E7
XMax: 3127151.8407106665
YMax: 1.3865507456334813E7
Spatial Reference: 102740
(2278)
LatestVCSWkid(0)
Full Extent:
XMin: 2819531.0680027665
YMin: 1.3646209996896213E7
XMax: 3127151.8407106665
YMax: 1.3865507456334813E7
Spatial Reference: 102740
(2278)
LatestVCSWkid(0)
Pixel Size X: 3.2808333000000003
Pixel Size Y: 3.2808332999999945
Band Count: 1
Pixel Type: F32
RasterFunction Infos: {"rasterFunctionInfos": [{
"name": "None",
"description": "",
"help": ""
}]}
Mensuration Capabilities: Basic
Has Histograms: true
Has Colormap: false
Has Multi Dimensions : false
Rendering Rule:
Min Scale: 0
Max Scale: 0
Copyright Text:
Service Data Type: esriImageServiceDataTypeGeneric
Min Values: -24.39960479736328
Max Values: 208.87139892578125
Mean Values: 80.22322074596654
Standard Deviation Values: 28.865347063943325
Object ID Field:
Fields:
None
Default Mosaic Method: Center
Allowed Mosaic Methods:
SortField:
SortValue: null
Mosaic Operator: First
Default Compression Quality: 75
Default Resampling Method: Bilinear
Max Record Count: null
Max Image Height: 70000
Max Image Width: 100000
Max Download Image Count: null
Max Mosaic Image Count: null
Allow Raster Function: true
Allow Copy: true
Allow Analysis: true
Allow Compute TiePoints: false
Supports Statistics: false
Supports Advanced Queries: false
Use StandardizedQueries: true
Raster Type Infos:
Name: Raster Dataset
Description: Supports all ArcGIS Raster Datasets
Help:
Has Raster Attribute Table: false
Edit Fields Info: null
Ownership Based AccessControl For Rasters: null
Child Resources:
Info
Histograms
Statistics
Key Properties
Legend
Raster Function Infos
Supported Operations:
Export Image
Identify
Measure
Compute Histograms
Compute Statistics Histograms
Get Samples
Compute Class Statistics
Query Boundary
Compute Pixel Location
Compute Angles
Validate
Project