View In:
ArcGIS JavaScript
ArcGIS Online Map Viewer
ArcGIS Earth
ArcMap
View Footprint In:
ArcGIS Online Map Viewer
Service Description: Imagery/Hillshade_2024
Name: Imagery/Hillshade_2024
Description:
Single Fused Map Cache: false
Extent:
XMin: 2890368.282108724
YMin: 1.3651622970874727E7
XMax: 3108847.175858724
YMax: 1.3852537923374727E7
Spatial Reference: 103161
(6588)
LatestVCSWkid(0)
Initial Extent:
XMin: 2890368.282108724
YMin: 1.3651622970874727E7
XMax: 3108847.175858724
YMax: 1.3852537923374727E7
Spatial Reference: 103161
(6588)
LatestVCSWkid(0)
Full Extent:
XMin: 2890368.282108724
YMin: 1.3651622970874727E7
XMax: 3108847.175858724
YMax: 1.3852537923374727E7
Spatial Reference: 103161
(6588)
LatestVCSWkid(0)
Pixel Size X: 1.6404166666666653
Pixel Size Y: 1.6404166666666715
Band Count: 1
Pixel Type: U8
RasterFunction Infos: {"rasterFunctionInfos": [{
"name": "None",
"description": "",
"help": ""
}]}
Mensuration Capabilities: Basic
Has Histograms: true
Has Colormap: false
Has Multi Dimensions : false
Rendering Rule:
Min Scale: 0
Max Scale: 0
Copyright Text:
Service Data Type: esriImageServiceDataTypeGeneric
Min Values: 0
Max Values: 254
Mean Values: 179.12274848268459
Standard Deviation Values: 10.600267989439676
Object ID Field:
Fields:
None
Default Mosaic Method: Center
Allowed Mosaic Methods:
SortField:
SortValue: null
Mosaic Operator: First
Default Compression Quality: 75
Default Resampling Method: Bilinear
Max Record Count: null
Max Image Height: 4100
Max Image Width: 15000
Max Download Image Count: null
Max Mosaic Image Count: null
Allow Raster Function: true
Allow Copy: true
Allow Analysis: true
Allow Compute TiePoints: false
Supports Statistics: false
Supports Advanced Queries: false
Use StandardizedQueries: true
Raster Type Infos:
Name: Raster Dataset
Description: Supports all ArcGIS Raster Datasets
Help:
Has Raster Attribute Table: true
Edit Fields Info: null
Ownership Based AccessControl For Rasters: null
Child Resources:
Info
Raster Attribute Table
Histograms
Statistics
Key Properties
Legend
Raster Function Infos
Supported Operations:
Export Image
Identify
Measure
Compute Histograms
Compute Statistics Histograms
Get Samples
Compute Class Statistics
Query Boundary
Compute Pixel Location
Compute Angles
Validate
Project